BEGIN:VCALENDAR
VERSION:2.0
PRODID:-//wp-events-plugin.com//7.2.3.1//EN
TZID:Europe/Berlin
X-WR-TIMEZONE:Europe/Berlin
BEGIN:VEVENT
UID:53@balfolk-koeln.de
DTSTART;TZID=Europe/Berlin:20170922T200000
DTEND;TZID=Europe/Berlin:20170922T235900
DTSTAMP:20240414T101808Z
URL:https://www.balfolk-koeln.de/veranstaltungen/bal-folk-in-koeln-7
SUMMARY:Bal Folk in Köln
DESCRIPTION:Mit "Itchy Fingers" (NL)\n\n- Klick für mehr Details\n\n- Anga
 ben ohne Gewähr
CATEGORIES:Balfolk
LOCATION:Quäker Nachbarschaftsheim\, Kreutzerstrasse 9\, Köln\, NRW\, 506
 72\, Deutschland
GEO:50.94311400;6.92843850
X-APPLE-STRUCTURED-LOCATION;VALUE=URI;X-ADDRESS=Kreutzerstrasse 9\, Köln\,
  NRW\, 50672\, Deutschland;X-APPLE-RADIUS=100;X-TITLE=Quäker Nachbarschaf
 tsheim:geo:50.94311400,6.92843850
END:VEVENT
BEGIN:VTIMEZONE
TZID:Europe/Berlin
X-LIC-LOCATION:Europe/Berlin
BEGIN:DAYLIGHT
DTSTART:20170326T030000
TZOFFSETFROM:+0100
TZOFFSETTO:+0200
TZNAME:CEST
END:DAYLIGHT
END:VTIMEZONE
END:VCALENDAR