BEGIN:VCALENDAR
VERSION:2.0
PRODID:-//wp-events-plugin.com//7.2.3.1//EN
TZID:Europe/Berlin
X-WR-TIMEZONE:Europe/Berlin
BEGIN:VEVENT
UID:148@balfolk-koeln.de
DTSTART;TZID=Europe/Berlin:20230122T160000
DTEND;TZID=Europe/Berlin:20230122T200000
DTSTAMP:20240523T190248Z
URL:https://www.balfolk-koeln.de/veranstaltungen/balfolk-mit-wouter-en-de-
 draak
SUMMARY:Balfolk mit Wouter en de Draak
DESCRIPTION:Liebe BalFolk-Köln-Fans\,\n\nein Frohes Neues Jahr Euch allen!
  Gesundheit\, Glück und Freude am Tanzen! Begonnen haben wir unser Kölne
 r BalFolk-Jahr 2023 am Sonntag\, dem 22. Januar\, mit feiner Tanzmusik aus
  unserer niederländischen Nachbarschaft:\n\nWouter en de Draak\n\n„Schm
 etterlingshaftes Kribbeln im Bauch“ verursachen laut dem niederländisch
 en „Folkforum“ die beiden Musiker Wouter Kuyper und Joris Alblas mit K
 längen aus Harmonika und offen gestimmten Gitarrensaiten. Ihre intimen fr
 anzösischen Mazurka-Zaubereien\, rustikalen Schottische und die zwingende
 n Rhythmen der Kettentänze vom bretonischen Westrand Europas entfalten ei
 n breites\, schönes musikalisch-kulturelles Panorama von „BalFolk“. U
 nd gegen das Kribbeln hilft nur eines: Tanzen! Z. B. (wie hier in der Luth
 erkirche): Walzer.
CATEGORIES:Balfolk
LOCATION:Lutherkirche\, Martin-Luther-Platz 2-4\, Köln\, NRW\, 50677\, Deu
 tschland
GEO:50.91997645;6.95278949
X-APPLE-STRUCTURED-LOCATION;VALUE=URI;X-ADDRESS=Martin-Luther-Platz 2-4\, K
 öln\, NRW\, 50677\, Deutschland;X-APPLE-RADIUS=100;X-TITLE=Lutherkirche:g
 eo:50.91997645,6.95278949
END:VEVENT
BEGIN:VTIMEZONE
TZID:Europe/Berlin
X-LIC-LOCATION:Europe/Berlin
BEGIN:STANDARD
DTSTART:20221030T020000
TZOFFSETFROM:+0200
TZOFFSETTO:+0100
TZNAME:CET
END:STANDARD
END:VTIMEZONE
END:VCALENDAR