BEGIN:VCALENDAR
VERSION:2.0
PRODID:-//wp-events-plugin.com//7.2.3.1//EN
TZID:Europe/Berlin
X-WR-TIMEZONE:Europe/Berlin
BEGIN:VEVENT
UID:192@balfolk-koeln.de
DTSTART;TZID=Europe/Berlin:20250605T190000
DTEND;TZID=Europe/Berlin:20250605T213000
DTSTAMP:20250516T084413Z
URL:https://www.balfolk-koeln.de/veranstaltungen/tanzlernabend-12
SUMMARY:Tanzlernabend - Tri Martolod
DESCRIPTION:Einer der bekanntesten Musikstücke aus der Bretagne ist das Li
 ed Tri Martolod\, das u.a. von Alan Stivell wieder bekannt wurde.\n\nIn d
 er Bretagne wird diese Melodie mit der Gavotte de Lannilis verbunden\, die
  aus dem Ort Lannilis im Nordwesten der Bretagne kommt. Prinzipiell ein ei
 nfacher Tanz\; als Variante der Gavotte sind die Grundschritte bekannt. Es
  kommt noch eine Handbewegung dazu\, auf die wir hier einen Schwerpunkt le
 gen.\n\nAls weiteren Tanz werden wir die Gavotte du Bas-Leon lernen\, die 
 ebenfalls aus dem Nordwesten der Bretagne kommt.\n\nBeide Tänze sind auch
  für Anfänger geeignet.\n\nWenn noch Zeit bleibt\, werden wir zum Abschl
 uß noch ein paar bekannte Tänze machen.
CATEGORIES:Lernabend/-nachmittag
LOCATION:Quäker Nachbarschaftsheim\, Kreutzerstrasse 9\, Köln\, NRW\, 506
 72\, Deutschland
GEO:50.94311400;6.92843850
X-APPLE-STRUCTURED-LOCATION;VALUE=URI;X-ADDRESS=Kreutzerstrasse 9\, Köln\,
  NRW\, 50672\, Deutschland;X-APPLE-RADIUS=100;X-TITLE=Quäker Nachbarschaf
 tsheim:geo:50.94311400,6.92843850
END:VEVENT
BEGIN:VTIMEZONE
TZID:Europe/Berlin
X-LIC-LOCATION:Europe/Berlin
BEGIN:DAYLIGHT
DTSTART:20250330T030000
TZOFFSETFROM:+0100
TZOFFSETTO:+0200
TZNAME:CEST
END:DAYLIGHT
END:VTIMEZONE
END:VCALENDAR