BEGIN:VCALENDAR
VERSION:2.0
PRODID:-//wp-events-plugin.com//7.2.3.1//EN
TZID:Europe/Berlin
X-WR-TIMEZONE:Europe/Berlin
BEGIN:VEVENT
UID:215@balfolk-koeln.de
DTSTART;TZID=Europe/Berlin:20260402T190000
DTEND;TZID=Europe/Berlin:20260402T210000
DTSTAMP:20260326T171432Z
URL:https://www.balfolk-koeln.de/veranstaltungen/tanzlernabend-22
SUMMARY:Tanzlernabend - Gavotte Caress
DESCRIPTION:Oft als Gavotte de l'Aven angekündigt\, ist dieser Tanz mittle
 rweile so weit vom Ursprung\, dass tatsächlich ein neuer Name sinnvoll is
 t.\n\nDeutlich ruhiger als das Original und nur mit dem Grundschritt hat d
 ieser Tanz die Flächen erobert. Mittlerweile werden vermehrt wieder Figur
 en getanzt\, die wir heute abend spielerisch erlernen wollen.
CATEGORIES:Lernabend/-nachmittag
LOCATION:Cologne Dance Center\, Venloer Strasse 41\, Köln\, NRW\, 50672\, 
 Deutschland
GEO:50.9411765;6.9331618
X-APPLE-STRUCTURED-LOCATION;VALUE=URI;X-ADDRESS=Venloer Strasse 41\, Köln\
 , NRW\, 50672\, Deutschland;X-APPLE-RADIUS=100;X-TITLE=Cologne Dance Cente
 r:geo:50.9411765,6.9331618
END:VEVENT
BEGIN:VTIMEZONE
TZID:Europe/Berlin
X-LIC-LOCATION:Europe/Berlin
BEGIN:DAYLIGHT
DTSTART:20260329T030000
TZOFFSETFROM:+0100
TZOFFSETTO:+0200
TZNAME:CEST
END:DAYLIGHT
END:VTIMEZONE
END:VCALENDAR