BEGIN:VCALENDAR
VERSION:2.0
PRODID:-//wp-events-plugin.com//7.2.3.1//EN
TZID:Europe/Berlin
X-WR-TIMEZONE:Europe/Berlin
BEGIN:VEVENT
UID:4@balfolk-koeln.de
DTSTART;TZID=Europe/Berlin:20240404T190000
DTEND;TZID=Europe/Berlin:20240404T220000
DTSTAMP:20240402T184213Z
URL:https://www.balfolk-koeln.de/veranstaltungen/tanzlernabend-mazurka-wal
 zer
SUMMARY:Tanzlernabend - Mazurka / Walzer
DESCRIPTION:Die Reihe der Tanzlernabende wollen wir beginnen\, indem wir di
 e häufigsten Tänze des Balfolk uns noch mal genauer anschauen. Jeder Ter
 min wird einen anderen Schwerpunkt haben. Diesmal wollen wir uns anschauen
 :\n\n 	Mazurka\n 	Walzer (vertiefend)\n 	Hanter dro\n 	Wiederholung\n
CATEGORIES:Lernabend/-nachmittag
LOCATION:Quäker Nachbarschaftsheim\, Kreutzerstrasse 9\, Köln\, NRW\, 506
 72\, Deutschland
GEO:50.94311400;6.92843850
X-APPLE-STRUCTURED-LOCATION;VALUE=URI;X-ADDRESS=Kreutzerstrasse 9\, Köln\,
  NRW\, 50672\, Deutschland;X-APPLE-RADIUS=100;X-TITLE=Quäker Nachbarschaf
 tsheim:geo:50.94311400,6.92843850
END:VEVENT
BEGIN:VTIMEZONE
TZID:Europe/Berlin
X-LIC-LOCATION:Europe/Berlin
BEGIN:DAYLIGHT
DTSTART:20240331T030000
TZOFFSETFROM:+0100
TZOFFSETTO:+0200
TZNAME:CEST
END:DAYLIGHT
END:VTIMEZONE
END:VCALENDAR