BEGIN:VCALENDAR
VERSION:2.0
PRODID:-//wp-events-plugin.com//7.2.3.1//EN
TZID:Europe/Berlin
X-WR-TIMEZONE:Europe/Berlin
BEGIN:VEVENT
UID:235@balfolk-koeln.de
DTSTART;TZID=Europe/Berlin:20260312T190000
DTEND;TZID=Europe/Berlin:20260312T210000
DTSTAMP:20260311T090539Z
URL:https://www.balfolk-koeln.de/veranstaltungen/tanzlernabend-vorbereitun
 g-blowzabella
SUMMARY:Tanzlernabend - Vorbereitung Blowzabella
DESCRIPTION:Der Andrang zu Blowzabella wird sicherlich groß werden. Daher 
 werden wir an diesem Abend wichtige Tänze wiederholen und vertiefen\, unt
 er anderem:\n\n- Chapeloise\n\n- Fröhlicher Kreis\n\n- Bourree\n\n- Walze
 r\n\n- Scottisch
CATEGORIES:Lernabend/-nachmittag
LOCATION:Cologne Dance Center\, Venloer Strasse 41\, Köln\, NRW\, 50672\, 
 Deutschland
GEO:50.9411765;6.9331618
X-APPLE-STRUCTURED-LOCATION;VALUE=URI;X-ADDRESS=Venloer Strasse 41\, Köln\
 , NRW\, 50672\, Deutschland;X-APPLE-RADIUS=100;X-TITLE=Cologne Dance Cente
 r:geo:50.9411765,6.9331618
END:VEVENT
BEGIN:VTIMEZONE
TZID:Europe/Berlin
X-LIC-LOCATION:Europe/Berlin
BEGIN:STANDARD
DTSTART:20251026T020000
TZOFFSETFROM:+0200
TZOFFSETTO:+0100
TZNAME:CET
END:STANDARD
END:VTIMEZONE
END:VCALENDAR