BEGIN:VCALENDAR
VERSION:2.0
PRODID:-//wp-events-plugin.com//7.2.3.1//EN
TZID:Europe/Berlin
X-WR-TIMEZONE:Europe/Berlin
BEGIN:VEVENT
UID:189@balfolk-koeln.de
DTSTART;TZID=Europe/Berlin:20250126T150000
DTEND;TZID=Europe/Berlin:20250126T170000
DTSTAMP:20250121T091957Z
URL:https://www.balfolk-koeln.de/veranstaltungen/tanzlernnachmittag-stollw
 erck-4
SUMMARY:Tanzlernnachmittag - Stollwerck
DESCRIPTION:Heute werden angeleitet:\n\n 	Scottisch (-figuren)\n 	ungerade 
 Walzer (5er\, 8er)\n
CATEGORIES:Lernabend/-nachmittag
LOCATION:Bürgerhaus Stollwerck\, Dreikönigenstr. 23\, Köln\, NRW\, 50678
 \, Deutschland
GEO:50.9252613;6.96447838
X-APPLE-STRUCTURED-LOCATION;VALUE=URI;X-ADDRESS=Dreikönigenstr. 23\, Köln
 \, NRW\, 50678\, Deutschland;X-APPLE-RADIUS=100;X-TITLE=Bürgerhaus Stollw
 erck:geo:50.9252613,6.96447838
END:VEVENT
BEGIN:VTIMEZONE
TZID:Europe/Berlin
X-LIC-LOCATION:Europe/Berlin
BEGIN:STANDARD
DTSTART:20241027T020000
TZOFFSETFROM:+0200
TZOFFSETTO:+0100
TZNAME:CET
END:STANDARD
END:VTIMEZONE
END:VCALENDAR