BEGIN:VCALENDAR
VERSION:2.0
PRODID:-//wp-events-plugin.com//7.2.3.1//EN
TZID:Europe/Berlin
X-WR-TIMEZONE:Europe/Berlin
BEGIN:VEVENT
UID:204@balfolk-koeln.de
DTSTART;TZID=Europe/Berlin:20250928T150000
DTEND;TZID=Europe/Berlin:20250928T170000
DTSTAMP:20250922T210322Z
URL:https://www.balfolk-koeln.de/veranstaltungen/tanznachmittag-stollwerck
 -2
SUMMARY:Tanznachmittag - Stollwerck - Rondeau
DESCRIPTION:An diesem Nachmittag vertiefen wir unsere Kenntnisse über Rond
 eaus.\n\nDer Rondeau-Schritt wird geübt und sowohl für den Rondeau en ch
 aine und Rondeau en couple verwendet.\n\nDen Rondeau en chaine werden wir 
 in der Grundform und mit einer Figur geübt.\n\nBeim Rondeau en couple üb
 en wir die Bewegung\, auch des gesamten Körpers\, um mehr Sicherheit im T
 anz zu finden. Einfache Figuren werden gezeigt als Einstieg in Variationen
 .
CATEGORIES:Lernabend/-nachmittag
LOCATION:Bürgerhaus Stollwerck\, Dreikönigenstr. 23\, Köln\, NRW\, 50678
 \, Deutschland
GEO:50.9252613;6.96447838
X-APPLE-STRUCTURED-LOCATION;VALUE=URI;X-ADDRESS=Dreikönigenstr. 23\, Köln
 \, NRW\, 50678\, Deutschland;X-APPLE-RADIUS=100;X-TITLE=Bürgerhaus Stollw
 erck:geo:50.9252613,6.96447838
END:VEVENT
BEGIN:VTIMEZONE
TZID:Europe/Berlin
X-LIC-LOCATION:Europe/Berlin
BEGIN:DAYLIGHT
DTSTART:20250330T030000
TZOFFSETFROM:+0100
TZOFFSETTO:+0200
TZNAME:CEST
END:DAYLIGHT
END:VTIMEZONE
END:VCALENDAR