BEGIN:VCALENDAR
VERSION:2.0
PRODID:-//wp-events-plugin.com//7.2.3.1//EN
TZID:Europe/Berlin
X-WR-TIMEZONE:Europe/Berlin
BEGIN:VEVENT
UID:209@balfolk-koeln.de
DTSTART;TZID=Europe/Berlin:20251109T100000
DTEND;TZID=Europe/Berlin:20251109T170000
DTSTAMP:20250830T112039Z
URL:https://www.balfolk-koeln.de/veranstaltungen/workshop-balfolk-paartaen
 ze
SUMMARY:Workshop Balfolk Paartänze
DESCRIPTION:Interpretation der Musik im Paar.\n\nAn diesem Sonntag nehmen w
 ir uns viel Zeit\, um die Paartänze im Balfolk zu vertiefen.\n\nDieser Ku
 rs wird explizit auf Anfänger-Niveau ausgerichtet. Personen mit Tanzerfah
 rung können sicherlich auch noch Kleinigkeiten mitnehmen.\n\nProgramm:\n"
 Theorie"\nZu Anfang kommen Übungen\, um unser Körpergefühl während Bew
 egungen besser wahrzunehmen. Wir schauen uns die Balance des Körpers an. 
 In einfachen Übungen testen wir die Grenzen unserer Bewegungen zur Musik.
 \nGrundhaltung im Paar\nNeben der üblichen Paarfassung existieren verschi
 edene weitere Paarfassung. Von denen werden wir die Rundfassung weiter aus
 bauen.\nWalzer\nFür den Walzer existieren einige Grundschritte. Diese wer
 den als Optionen verwendet. Passend zur Musik kann zwischen diesen Schritt
 en gewechselt werden.\n\nZudem öffnen wir uns für weitere Freiheitsgrade
  der Bewegung\, die wir zur Betonung der Musik nutzen können.\n\nHier wol
 len wir die Kommunikation im Paar ausbauen: Die Führung wollen wir so aus
 bauen\, dass auch Impulse von der folgenden Person erspürt und berücksic
 htigt werden können.\nSchottisch\nAls fröhlicher Tanz der Figuren werden
  wir an wenigen Figuren lernen\, wie wir diese Figuren führen können. Da
  Führen im Tanz schwer zu vermitteln ist\, wird jeder die Gelegenheit hab
 en\, anhand dieser einfachen Figuren zu spüren\, wie die folgende Person 
 geführt werden kann. Auch hier ist es wichtig\, die Reaktion der folgende
 n Person zu spüren und bei der Führung zu berücksichtigen.\nMittagspaus
 e\nZeit\, bei durchlaufender Musik verschiedene Sachen zu wiederholen und 
 in Kleingesprächen dies zu vertiefen.\nMazurka\nBei der Mazurka hat sich 
 in den letzten Jahren eine sehr enge Paarhaltung eingeschlichen\, die zu T
 ango Argentino vergleichbar ist. Diese Paarhaltung wird mit den Gefahren d
 emonstriert. Ansonsten wird weiterhin die Rundfassung verwendet.\n\nDie Ma
 zurka hat sich in den letzten Jahren zu einer sehr offenen Tanzform entwic
 kelt\, die teils ähnlich frei interpretiert werden kann wie im Tango.\n\n
 Verschiedene Schrittformen werden geübt. Auch hier ermöglicht die Nutzun
 g weiterer Freiheitsgrade der Bewegung\, die Musik noch einmal intensiver 
 zu geniessen.\n\nIn der Musik haben sich noch Eigenheiten der traditionell
 en Mazurka gehalten\, so dass oft auch andere Schrittfolgen aus der Musik 
 herauszuhören sind. Dies werden wir an verschiedenen Mazurken trainieren.
 \nWeitere Infos\nEine Kinderbetreuung wird nicht angeboten. Solange sich d
 ie Kinder eigenständig beschäftigen können und/oder eine Kinderbetreuun
 g unter den Teilnehmenden organisiert werden können\, sind Kinder willkom
 men.\n\nEs handelt sich um eine Privat-Veranstaltung auf Spendenbasis. Es 
 wird um Spende um 50€ pro Person gebeten.\n\nEs wird ein Buffet aufgebau
 t und jeder darf etwas beitragen. Heißes Wasser für Tee und Kaffee wird 
 vorhanden sein. Weitere Getränke bitte selbst mitbringen. Auf alkoholisch
 e Getränke muss verzichtet werden.
CATEGORIES:Lernabend/-nachmittag
LOCATION:Cologne Dance Center\, Venloer Strasse 41\, Köln\, NRW\, 50672\, 
 Deutschland
GEO:50.9411765;6.9331618
X-APPLE-STRUCTURED-LOCATION;VALUE=URI;X-ADDRESS=Venloer Strasse 41\, Köln\
 , NRW\, 50672\, Deutschland;X-APPLE-RADIUS=100;X-TITLE=Cologne Dance Cente
 r:geo:50.9411765,6.9331618
END:VEVENT
BEGIN:VTIMEZONE
TZID:Europe/Berlin
X-LIC-LOCATION:Europe/Berlin
BEGIN:STANDARD
DTSTART:20251026T020000
TZOFFSETFROM:+0200
TZOFFSETTO:+0100
TZNAME:CET
END:STANDARD
END:VTIMEZONE
END:VCALENDAR